BEGIN:VCALENDAR
VERSION:2.0
PRODID:-//OneStar Foundation - ECPv6.15.17.1//NONSGML v1.0//EN
CALSCALE:GREGORIAN
METHOD:PUBLISH
X-WR-CALNAME:OneStar Foundation
X-ORIGINAL-URL:https://onestarfoundation.org
X-WR-CALDESC:Events for OneStar Foundation
REFRESH-INTERVAL;VALUE=DURATION:PT1H
X-Robots-Tag:noindex
X-PUBLISHED-TTL:PT1H
BEGIN:VTIMEZONE
TZID:America/Chicago
BEGIN:DAYLIGHT
TZOFFSETFROM:-0600
TZOFFSETTO:-0500
TZNAME:CDT
DTSTART:20250309T080000
END:DAYLIGHT
BEGIN:STANDARD
TZOFFSETFROM:-0500
TZOFFSETTO:-0600
TZNAME:CST
DTSTART:20251102T070000
END:STANDARD
BEGIN:DAYLIGHT
TZOFFSETFROM:-0600
TZOFFSETTO:-0500
TZNAME:CDT
DTSTART:20260308T080000
END:DAYLIGHT
BEGIN:STANDARD
TZOFFSETFROM:-0500
TZOFFSETTO:-0600
TZNAME:CST
DTSTART:20261101T070000
END:STANDARD
BEGIN:DAYLIGHT
TZOFFSETFROM:-0600
TZOFFSETTO:-0500
TZNAME:CDT
DTSTART:20270314T080000
END:DAYLIGHT
BEGIN:STANDARD
TZOFFSETFROM:-0500
TZOFFSETTO:-0600
TZNAME:CST
DTSTART:20271107T070000
END:STANDARD
END:VTIMEZONE
BEGIN:VEVENT
DTSTART;TZID=America/Chicago:20260423T130000
DTEND;TZID=America/Chicago:20260423T140000
DTSTAMP:20260420T122439
CREATED:20260330T184042Z
LAST-MODIFIED:20260330T184441Z
UID:10000252-1776949200-1776952800@onestarfoundation.org
SUMMARY:Volunteering Redefined: Managing & Advocating for Older Adult Volunteers
DESCRIPTION:Older adult volunteers bring a lifetime of experience\, passion\, and enthusiasm to your student success programs\, but they may also have unique needs. In this session we’ll discuss advocating for older adult volunteers\, and the outsized impact they can have on an organization. We’ll also cover some of the ways we can support volunteers through designing training with older adults in mind\, involving them in decision-making\, and offering flexible opportunities when in-person volunteering is challenging. Join the Coffee Chat on April 30th to discuss this topic in depth with others leading and engaging older adult volunteers.
URL:https://onestarfoundation.org/event/volunteering-redefined-managing-advocating-for-older-adult-volunteers/
CATEGORIES:Training/Educational
ATTACH;FMTTYPE=image/png:https://onestarfoundation.org/wp-content/uploads/2026/03/OneStar-Events_PRESENTED-BY_Idealist.png
LOCATION:https://onestarfoundation.org/event/volunteering-redefined-managing-advocating-for-older-adult-volunteers/
END:VEVENT
BEGIN:VEVENT
DTSTART;TZID=America/Chicago:20260514T130000
DTEND;TZID=America/Chicago:20260514T140000
DTSTAMP:20260420T122439
CREATED:20260330T184205Z
LAST-MODIFIED:20260330T184626Z
UID:10000253-1778763600-1778767200@onestarfoundation.org
SUMMARY:Volunteering Redefined: Managing Burn Out & Advocating for Yourself
DESCRIPTION:As a leader of volunteers you can have a lot on your desk – especially if you’re a department of one. How can you manage your time\, your workload\, and your emotional health? We’ll discuss strategies\, ideas for engaging others\, and ways you can advocate for yourself. Join the Coffee Chat on May 21st to discuss this topic in more depth with other leaders of volunteers
URL:https://onestarfoundation.org/event/volunteering-redefined-managing-burn-out-advocating-for-yourself/
CATEGORIES:Training/Educational
ATTACH;FMTTYPE=image/png:https://onestarfoundation.org/wp-content/uploads/2026/03/OneStar-Events_PRESENTED-BY_Idealist.png
LOCATION:https://onestarfoundation.org/event/volunteering-redefined-managing-burn-out-advocating-for-yourself/
END:VEVENT
BEGIN:VEVENT
DTSTART;TZID=America/Chicago:20260611T130000
DTEND;TZID=America/Chicago:20260611T140000
DTSTAMP:20260420T122439
CREATED:20260330T184327Z
LAST-MODIFIED:20260330T184651Z
UID:10000254-1781182800-1781186400@onestarfoundation.org
SUMMARY:Volunteering Redefined: Learning Community Reflection & Future Goal Setting
DESCRIPTION:We’ll be wrapping up what we’ve covered for the last year\, and discussing how to keep the work going. Come share what you’ve done\, what worked\, and what you’ve learned along the way. We’ll also cover some ideas for setting additional goals and sharing the progress you’ve made with others. Join the Coffee Chat on June 18th for an opportunity to share more of what you’ve done and learn from other leaders of volunteers.
URL:https://onestarfoundation.org/event/volunteering-redefined-learning-community-reflection-future-goal-setting/
CATEGORIES:Training/Educational
ATTACH;FMTTYPE=image/png:https://onestarfoundation.org/wp-content/uploads/2026/03/OneStar-Events_PRESENTED-BY_Idealist.png
LOCATION:https://onestarfoundation.org/event/volunteering-redefined-learning-community-reflection-future-goal-setting/
END:VEVENT
END:VCALENDAR