BEGIN:VCALENDAR
VERSION:2.0
PRODID:-//OneStar Foundation - ECPv6.15.17.1//NONSGML v1.0//EN
CALSCALE:GREGORIAN
METHOD:PUBLISH
X-WR-CALNAME:OneStar Foundation
X-ORIGINAL-URL:https://onestarfoundation.org
X-WR-CALDESC:Events for OneStar Foundation
REFRESH-INTERVAL;VALUE=DURATION:PT1H
X-Robots-Tag:noindex
X-PUBLISHED-TTL:PT1H
BEGIN:VTIMEZONE
TZID:America/Chicago
BEGIN:DAYLIGHT
TZOFFSETFROM:-0600
TZOFFSETTO:-0500
TZNAME:CDT
DTSTART:20250309T080000
END:DAYLIGHT
BEGIN:STANDARD
TZOFFSETFROM:-0500
TZOFFSETTO:-0600
TZNAME:CST
DTSTART:20251102T070000
END:STANDARD
BEGIN:DAYLIGHT
TZOFFSETFROM:-0600
TZOFFSETTO:-0500
TZNAME:CDT
DTSTART:20260308T080000
END:DAYLIGHT
BEGIN:STANDARD
TZOFFSETFROM:-0500
TZOFFSETTO:-0600
TZNAME:CST
DTSTART:20261101T070000
END:STANDARD
BEGIN:DAYLIGHT
TZOFFSETFROM:-0600
TZOFFSETTO:-0500
TZNAME:CDT
DTSTART:20270314T080000
END:DAYLIGHT
BEGIN:STANDARD
TZOFFSETFROM:-0500
TZOFFSETTO:-0600
TZNAME:CST
DTSTART:20271107T070000
END:STANDARD
END:VTIMEZONE
BEGIN:VEVENT
DTSTART;TZID=America/Chicago:20260421T130000
DTEND;TZID=America/Chicago:20260421T140000
DTSTAMP:20260420T123944
CREATED:20260330T184945Z
LAST-MODIFIED:20260330T185252Z
UID:10000256-1776776400-1776780000@onestarfoundation.org
SUMMARY:Creating a Culture of Volunteer Engagement
DESCRIPTION:You can design the perfect volunteer opportunity\, and screen and train the perfect volunteer\, but if the culture of your organization isn’t one that elevates and celebrates the work of volunteers\, they probably won’t stay. In this workshop you’ll have the opportunity to explore where your organization’s culture may be limiting\, excluding\, or even ignoring volunteers. Please plan on attending or watching the recording of the Kick Off session before attending. \nPlease register even if you aren’t able to attend live to receive the recording\, the slides\, and the worksheet for this session.
URL:https://onestarfoundation.org/event/creating-a-culture-of-volunteer-engagement/
CATEGORIES:Training/Educational
ATTACH;FMTTYPE=image/png:https://onestarfoundation.org/wp-content/uploads/2026/03/OneStar-Events_PRESENTED-BY_Idealist.png
LOCATION:https://onestarfoundation.org/event/creating-a-culture-of-volunteer-engagement/
END:VEVENT
BEGIN:VEVENT
DTSTART;TZID=America/Chicago:20260428T130000
DTEND;TZID=America/Chicago:20260428T140000
DTSTAMP:20260420T123944
CREATED:20260330T185026Z
LAST-MODIFIED:20260330T185250Z
UID:10000257-1777381200-1777384800@onestarfoundation.org
SUMMARY:Managing Changes and Volunteer Transitions
DESCRIPTION:What should you do when things change? Sometimes it can feel like even small changes create big shocks for your volunteers. In this workshop you’ll explore how to plan for and introduce changes to volunteers. We’ll also discuss strategies for unexpected or unplanned for changes to keep your volunteers engaged and informed – even when the future is unclear. This workshop is the third in the series. Please plan on attending or watching the first two workshops before attending this session. \nPlease register even if you aren’t able to attend live to receive the recording\, the slides\, and the worksheet for this session.
URL:https://onestarfoundation.org/event/managing-changes-and-volunteer-transitions/
CATEGORIES:Training/Educational
ATTACH;FMTTYPE=image/png:https://onestarfoundation.org/wp-content/uploads/2026/03/OneStar-Events_PRESENTED-BY_Idealist.png
LOCATION:https://onestarfoundation.org/event/managing-changes-and-volunteer-transitions/
END:VEVENT
BEGIN:VEVENT
DTSTART;TZID=America/Chicago:20260507T100000
DTEND;TZID=America/Chicago:20260507T110000
DTSTAMP:20260420T123944
CREATED:20260330T185442Z
LAST-MODIFIED:20260330T185442Z
UID:10000259-1778148000-1778151600@onestarfoundation.org
SUMMARY:Certified in Volunteer Administration: A mark of excellence
DESCRIPTION:This session is co-hosted with the Council for Certification in Volunteer Administration \nJoin us to learn about the Council for Certification in Volunteer Administration (CCVA)\, the Certification in Volunteer Administration (CVA) credential\, the process of applying for the exam and what you can do to prepare for the exam. This session is led by volunteers who have obtained their CVA. You will have the opportunity to ask questions and connect with others who are exploring the CVA credential. \nThis session WILL NOT be recorded.
URL:https://onestarfoundation.org/event/certified-in-volunteer-administration-a-mark-of-excellence/
CATEGORIES:Training/Educational
ATTACH;FMTTYPE=image/png:https://onestarfoundation.org/wp-content/uploads/2026/03/OneStar-Events_PRESENTED-BY_Idealist.png
LOCATION:https://onestarfoundation.org/event/certified-in-volunteer-administration-a-mark-of-excellence/
END:VEVENT
BEGIN:VEVENT
DTSTART;TZID=America/Chicago:20260512T130000
DTEND;TZID=America/Chicago:20260512T140000
DTSTAMP:20260420T123944
CREATED:20260330T185128Z
LAST-MODIFIED:20260330T185249Z
UID:10000258-1778590800-1778594400@onestarfoundation.org
SUMMARY:When Things Don't Go as Planned
DESCRIPTION:What should you do if you have a volunteer who simply won’t follow your policies and procedures? In this workshop you’ll have the opportunity to explore when and how you might have to ask a volunteer to leave your organization. It’s not something we should take lightly\, but sometimes dismissal is the best option and we’ll walk through the steps of making this decision\, and following through. This workshop is the fourth in the series. Please plan to attend or watch the three previous workshops before attending. \nPlease register even if you aren’t able to attend live to receive the recording\, the slides\, and the worksheet for this session.
URL:https://onestarfoundation.org/event/when-things-dont-go-as-planned/
CATEGORIES:Training/Educational
ATTACH;FMTTYPE=image/png:https://onestarfoundation.org/wp-content/uploads/2026/03/OneStar-Events_PRESENTED-BY_Idealist.png
LOCATION:https://onestarfoundation.org/event/when-things-dont-go-as-planned/
END:VEVENT
END:VCALENDAR