BEGIN:VCALENDAR
VERSION:2.0
PRODID:-//OneStar Foundation - ECPv6.15.17.1//NONSGML v1.0//EN
CALSCALE:GREGORIAN
METHOD:PUBLISH
X-WR-CALNAME:OneStar Foundation
X-ORIGINAL-URL:https://onestarfoundation.org
X-WR-CALDESC:Events for OneStar Foundation
REFRESH-INTERVAL;VALUE=DURATION:PT1H
X-Robots-Tag:noindex
X-PUBLISHED-TTL:PT1H
BEGIN:VTIMEZONE
TZID:America/Chicago
BEGIN:DAYLIGHT
TZOFFSETFROM:-0600
TZOFFSETTO:-0500
TZNAME:CDT
DTSTART:20250309T080000
END:DAYLIGHT
BEGIN:STANDARD
TZOFFSETFROM:-0500
TZOFFSETTO:-0600
TZNAME:CST
DTSTART:20251102T070000
END:STANDARD
BEGIN:DAYLIGHT
TZOFFSETFROM:-0600
TZOFFSETTO:-0500
TZNAME:CDT
DTSTART:20260308T080000
END:DAYLIGHT
BEGIN:STANDARD
TZOFFSETFROM:-0500
TZOFFSETTO:-0600
TZNAME:CST
DTSTART:20261101T070000
END:STANDARD
BEGIN:DAYLIGHT
TZOFFSETFROM:-0600
TZOFFSETTO:-0500
TZNAME:CDT
DTSTART:20270314T080000
END:DAYLIGHT
BEGIN:STANDARD
TZOFFSETFROM:-0500
TZOFFSETTO:-0600
TZNAME:CST
DTSTART:20271107T070000
END:STANDARD
END:VTIMEZONE
BEGIN:VEVENT
DTSTART;TZID=America/Chicago:20260528T130000
DTEND;TZID=America/Chicago:20260528T140000
DTSTAMP:20260422T004502
CREATED:20260421T184914Z
LAST-MODIFIED:20260421T185044Z
UID:24316-1779973200-1779976800@onestarfoundation.org
SUMMARY:Revisiting Maurice Mitchell's "Building Resilient Organizations"
DESCRIPTION:Maurice Mitchell’s seminal article “Building Resilient Organizations“—co-published in 2022 by NPQ\, The Forge\, and Convergence—held up a mirror to the challenging internal management and culture of progressive organizations and offered pointed guidance about what people working at these organizations could do to shift toward resilience and joy. It has been read and referenced by thousands of leaders\, consultants\, and funders in the three-plus years since. \nIn this Learn Out Loud session\, NPQ welcomes Maurice Mitchell and a panel of experts to revisit the central themes of the piece\, including anti-leadership attitudes; anti-institution sentiment; and unanchored care whereby people assume that one’s mental\, physical\, and spiritual health are the responsibility of the organization or collective space. \nThe panelists will address these questions: \n\nWhere have we seen progress in how our organizations function internally?\nWhat challenging organizational dynamics have proven more difficult to disrupt?\nHow has the deepening threat of fascism impacted the inner workings of our organizations?\nWhich tools and practices are contributing to greater organizational resilience in today’s hyperchallenging operating context?\nHow can philanthropy best support organizational resilience in our shared fight for a multiracial democracy?\n\nPanelists: \nMaurice Mitchell\, National Director\, Working Families Party\nAllison Conyers\, Executive Director\, EpicWorks\nMistinguette Smith\, Principal Consultant\, M Smith Consulting LLC\nRebecca Epstein\, Principal Consultant\, R. Epstein Consulting\nModerated by Jeanne Bell\, Program Host\, Leading Edge (NPQ)
URL:https://onestarfoundation.org/event/revisiting-maurice-mitchells-building-resilient-organizations/
CATEGORIES:Training/Educational
ATTACH;FMTTYPE=image/webp:https://onestarfoundation.org/wp-content/uploads/2026/04/Revisiting-Maurice-Mitchells-Building-Resilient-Organizations.webp
LOCATION:https://onestarfoundation.org/event/revisiting-maurice-mitchells-building-resilient-organizations/
END:VEVENT
END:VCALENDAR