BEGIN:VCALENDAR
VERSION:2.0
PRODID:-//OneStar Foundation - ECPv6.15.17.1//NONSGML v1.0//EN
CALSCALE:GREGORIAN
METHOD:PUBLISH
X-ORIGINAL-URL:https://onestarfoundation.org
X-WR-CALDESC:Events for OneStar Foundation
REFRESH-INTERVAL;VALUE=DURATION:PT1H
X-Robots-Tag:noindex
X-PUBLISHED-TTL:PT1H
BEGIN:VTIMEZONE
TZID:America/Chicago
BEGIN:DAYLIGHT
TZOFFSETFROM:-0600
TZOFFSETTO:-0500
TZNAME:CDT
DTSTART:20250309T080000
END:DAYLIGHT
BEGIN:STANDARD
TZOFFSETFROM:-0500
TZOFFSETTO:-0600
TZNAME:CST
DTSTART:20251102T070000
END:STANDARD
BEGIN:DAYLIGHT
TZOFFSETFROM:-0600
TZOFFSETTO:-0500
TZNAME:CDT
DTSTART:20260308T080000
END:DAYLIGHT
BEGIN:STANDARD
TZOFFSETFROM:-0500
TZOFFSETTO:-0600
TZNAME:CST
DTSTART:20261101T070000
END:STANDARD
BEGIN:DAYLIGHT
TZOFFSETFROM:-0600
TZOFFSETTO:-0500
TZNAME:CDT
DTSTART:20270314T080000
END:DAYLIGHT
BEGIN:STANDARD
TZOFFSETFROM:-0500
TZOFFSETTO:-0600
TZNAME:CST
DTSTART:20271107T070000
END:STANDARD
END:VTIMEZONE
BEGIN:VEVENT
DTSTART;TZID=America/Chicago:20260528T080000
DTEND;TZID=America/Chicago:20260528T163000
DTSTAMP:20260421T161121
CREATED:20260420T185255Z
LAST-MODIFIED:20260420T185255Z
UID:10000275-1779955200-1779985800@onestarfoundation.org
SUMMARY:3CMA Regional Conference
DESCRIPTION:In an era of rapid change and heightened scrutiny\, government communicators are called to do more than deliver messages. We are called to manage brands\, tell our community’s story\, and strengthen the foundation of public trust. \nJoin us in Decatur\, GA on May 28 for the 3CMA Regional Conference\, Playing the Long Game: Strategy\, Trust & Public Engagement. Together\, we’ll step back from the day-to-day demands and focus on the strategic work that drives lasting impact. \nWhether you’re a seasoned communicator or early in your career\, this conference will offer fresh perspectives\, practical insights\, and valuable peer connections to help you think bigger\, plan smarter\, and engage more meaningfully with your community.
URL:https://onestarfoundation.org/event/3cma-regional-conference/
LOCATION:Decatur Recreation Center\, 231 Sycamore St\, Decatur\, GA\, 30030
CATEGORIES:Conference
ATTACH;FMTTYPE=image/png:https://onestarfoundation.org/wp-content/uploads/2026/04/3CMA-Regional-Conference.png
END:VEVENT
END:VCALENDAR