BEGIN:VCALENDAR
VERSION:2.0
PRODID:-//OneStar Foundation - ECPv6.15.17.1//NONSGML v1.0//EN
CALSCALE:GREGORIAN
METHOD:PUBLISH
X-WR-CALNAME:OneStar Foundation
X-ORIGINAL-URL:https://onestarfoundation.org
X-WR-CALDESC:Events for OneStar Foundation
REFRESH-INTERVAL;VALUE=DURATION:PT1H
X-Robots-Tag:noindex
X-PUBLISHED-TTL:PT1H
BEGIN:VTIMEZONE
TZID:UTC
BEGIN:STANDARD
TZOFFSETFROM:+0000
TZOFFSETTO:+0000
TZNAME:UTC
DTSTART:20250101T000000
END:STANDARD
END:VTIMEZONE
BEGIN:VTIMEZONE
TZID:America/Chicago
BEGIN:DAYLIGHT
TZOFFSETFROM:-0600
TZOFFSETTO:-0500
TZNAME:CDT
DTSTART:20250309T080000
END:DAYLIGHT
BEGIN:STANDARD
TZOFFSETFROM:-0500
TZOFFSETTO:-0600
TZNAME:CST
DTSTART:20251102T070000
END:STANDARD
BEGIN:DAYLIGHT
TZOFFSETFROM:-0600
TZOFFSETTO:-0500
TZNAME:CDT
DTSTART:20260308T080000
END:DAYLIGHT
BEGIN:STANDARD
TZOFFSETFROM:-0500
TZOFFSETTO:-0600
TZNAME:CST
DTSTART:20261101T070000
END:STANDARD
BEGIN:DAYLIGHT
TZOFFSETFROM:-0600
TZOFFSETTO:-0500
TZNAME:CDT
DTSTART:20270314T080000
END:DAYLIGHT
BEGIN:STANDARD
TZOFFSETFROM:-0500
TZOFFSETTO:-0600
TZNAME:CST
DTSTART:20271107T070000
END:STANDARD
END:VTIMEZONE
BEGIN:VEVENT
DTSTART;TZID=UTC:20260414T140000
DTEND;TZID=UTC:20260414T153000
DTSTAMP:20260420T084438
CREATED:20260326T140525Z
LAST-MODIFIED:20260326T143301Z
UID:10000145-1776175200-1776180600@onestarfoundation.org
SUMMARY:Promotional Protocol – Unlock the Secrets to Career Success
DESCRIPTION:Ready to take your career to the next level? Promotion Protocol reveals the hidden rules of promotability and equips you with the tools to stand out in today’s competitive workplace. Through engaging insights and practical strategies\, you’ll discover how to overcome blind spots\, build executive presence\, and leverage mentorship to accelerate your path to success. This workshop will help you: \n\nUncover the secrets of promotability – Learn what leaders look for when deciding who gets promoted.\nSpot and overcome blind spots – Identify the habits or gaps that may be holding you back.\nHarness the power of mentorship – Discover how mentors can open doors\, provide feedback\, and champion your growth.\nBoost your executive presence – Practice the communication and leadership skills that signal readiness for advancement.\n\nRegister today and set yourself up for career advancement. \nMEET THE PRESENTER\nDr. Kim Nugent is a nine-time best-selling author\, certified coach through Marshall Goldsmith and the ICF\, and Mastery Consultant with the Brave Thinking Institute. Kim is a well-known expert in leadership\, staff\, and faculty development. Kim specializes in helping people build their dreams\, accelerate their results\, and create richer\, more fulfilling lives. \nRegister Now \nFull details here: https://tockify.com/nonprofitconnection/detail/223/1776175200000
URL:https://onestarfoundation.org/event/promotional-protocol-unlock-the-secrets-to-career-success-2/
LOCATION:United Way of Greater Houston\, 50 Waugh Dr\, Houston\, TX\, 77007
CATEGORIES:Training/Educational
ATTACH;FMTTYPE=image/png:https://onestarfoundation.org/wp-content/uploads/2026/03/OneStar-Events_PRESENTED-BY_United-Way-of-Greater-Houston.png
GEO:29.765762;-95.398136
X-APPLE-STRUCTURED-LOCATION;VALUE=URI;X-ADDRESS=United Way of Greater Houston 50 Waugh Dr Houston TX 77007;X-APPLE-RADIUS=500;X-TITLE=50 Waugh Dr:geo:-95.398136,29.765762
END:VEVENT
BEGIN:VEVENT
DTSTART;TZID=America/Chicago:20260414T090000
DTEND;TZID=America/Chicago:20260414T103000
DTSTAMP:20260420T084438
CREATED:20260210T162554Z
LAST-MODIFIED:20260325T194403Z
UID:10000008-1776157200-1776162600@onestarfoundation.org
SUMMARY:Promotional Protocol – Unlock the Secrets to Career Success
DESCRIPTION:This workshop is designed for nonprofit professionals seeking to advance their careers and strengthen their leadership impact. Participants will explore the often-unspoken factors that influence promotability within organizations and gain practical strategies for standing out in competitive\, mission-driven workplaces. The session will address common blind spots\, the role of mentorship in professional growth\, and techniques for building executive presence. Attendees will leave with actionable tools to communicate leadership readiness\, navigate career progression\, and position themselves for advancement within the nonprofit sector.
URL:https://onestarfoundation.org/event/promotional-protocol-unlock-the-secrets-to-career-success/
LOCATION:United Way of Greater Houston\, 50 Waugh Dr\, Houston\, TX\, 77007
CATEGORIES:Training/Educational
ATTACH;FMTTYPE=image/png:https://onestarfoundation.org/wp-content/uploads/2026/03/OneStar-Events_PRESENTED-BY_United-Way-of-Greater-Houston.png
GEO:29.765762;-95.398136
X-APPLE-STRUCTURED-LOCATION;VALUE=URI;X-ADDRESS=United Way of Greater Houston 50 Waugh Dr Houston TX 77007;X-APPLE-RADIUS=500;X-TITLE=50 Waugh Dr:geo:-95.398136,29.765762
END:VEVENT
END:VCALENDAR